BEGIN:VCALENDAR
VERSION:2.0
PRODID:-//Winthrop Lakes Region Chamber of Commerce - ECPv6.15.16.1//NONSGML v1.0//EN
CALSCALE:GREGORIAN
METHOD:PUBLISH
X-WR-CALNAME:Winthrop Lakes Region Chamber of Commerce
X-ORIGINAL-URL:https://winthropchamber.org
X-WR-CALDESC:Events for Winthrop Lakes Region Chamber of Commerce
REFRESH-INTERVAL;VALUE=DURATION:PT1H
X-Robots-Tag:noindex
X-PUBLISHED-TTL:PT1H
BEGIN:VTIMEZONE
TZID:America/New_York
BEGIN:DAYLIGHT
TZOFFSETFROM:-0500
TZOFFSETTO:-0400
TZNAME:EDT
DTSTART:20220313T070000
END:DAYLIGHT
BEGIN:STANDARD
TZOFFSETFROM:-0400
TZOFFSETTO:-0500
TZNAME:EST
DTSTART:20221106T060000
END:STANDARD
BEGIN:DAYLIGHT
TZOFFSETFROM:-0500
TZOFFSETTO:-0400
TZNAME:EDT
DTSTART:20230312T070000
END:DAYLIGHT
BEGIN:STANDARD
TZOFFSETFROM:-0400
TZOFFSETTO:-0500
TZNAME:EST
DTSTART:20231105T060000
END:STANDARD
BEGIN:DAYLIGHT
TZOFFSETFROM:-0500
TZOFFSETTO:-0400
TZNAME:EDT
DTSTART:20240310T070000
END:DAYLIGHT
BEGIN:STANDARD
TZOFFSETFROM:-0400
TZOFFSETTO:-0500
TZNAME:EST
DTSTART:20241103T060000
END:STANDARD
BEGIN:DAYLIGHT
TZOFFSETFROM:-0500
TZOFFSETTO:-0400
TZNAME:EDT
DTSTART:20250309T070000
END:DAYLIGHT
BEGIN:STANDARD
TZOFFSETFROM:-0400
TZOFFSETTO:-0500
TZNAME:EST
DTSTART:20251102T060000
END:STANDARD
END:VTIMEZONE
BEGIN:VEVENT
DTSTART;TZID=America/New_York:20240411T073000
DTEND;TZID=America/New_York:20240411T073000
DTSTAMP:20260423T162718
CREATED:20240405T220816Z
LAST-MODIFIED:20240405T224424Z
UID:1675-1712820600-1712820600@winthropchamber.org
SUMMARY:Breakfast Meeting with Beth Bordowitz
DESCRIPTION:This month\, we have the pleasure of hosting Beth Bordowitz from the Maine Retirement Investment Trust. This session promises to be informative\, focusing on an overview of the MERIT program\, a resource designed to assist small business owners and their employees in navigating the complexities of saving for retirement. \nBeth will cover options for self-employed individuals and give details about mandatory enrollment in MERIT for small businesses with less than five employees. Don’t miss this event\, with information\, a chance to network\, and a chance to enjoy delicious bagels and scones from Sunrise Bagel Cafe. All Members Welcome!  Please REGISTER HERE!
URL:https://winthropchamber.org/event/breakfast-meeting-with-beth-bordowitz/
LOCATION:Winthrop Town Office\, 17 Highland Ave\, Winthrop\, ME\, 04364\, United States
CATEGORIES:Breakfast Meeting
END:VEVENT
BEGIN:VEVENT
DTSTART;TZID=America/New_York:20240321T170000
DTEND;TZID=America/New_York:20240321T190000
DTSTAMP:20260423T162718
CREATED:20240229T214521Z
LAST-MODIFIED:20240229T221122Z
UID:1601-1711040400-1711047600@winthropchamber.org
SUMMARY:Tavern on the Hill & Homestead Realty
DESCRIPTION:REGISTER now and prepare for an evening of networking and fun on Thursday\, March 21\, from 5 PM – 7 PM! \nHomestead Realty and Tavern on the Hill have teamed up to present Business After Hours this month. \nWe look forward to seeing you at the fabulous Tavern on the Hill located at 357 Main Street in Winthrop. \nPlease REGISTER by Friday\, March 8th! \n 
URL:https://winthropchamber.org/event/tavern-on-the-hill-homestead-realty/
LOCATION:Tavern on the Hill\, 357 Main St\, Winthrop\, 04364\, United States
CATEGORIES:Business After Hours
END:VEVENT
BEGIN:VEVENT
DTSTART;TZID=America/New_York:20240215T170000
DTEND;TZID=America/New_York:20240215T190000
DTSTAMP:20260423T162718
CREATED:20240119T190330Z
LAST-MODIFIED:20240119T190330Z
UID:1570-1708016400-1708023600@winthropchamber.org
SUMMARY:Business After Hours at Winthrop Fire Station
DESCRIPTION:
URL:https://winthropchamber.org/event/business-after-hours-at-winthrop-fire-station/
LOCATION:Winthrop FIre Station\, 1703 US-202\, Winthrop\, ME\, 04364\, United States
CATEGORIES:Business After Hours
ATTACH;FMTTYPE=image/jpeg:https://winthropchamber.org/wp-content/uploads/fd_1.jpg
END:VEVENT
BEGIN:VEVENT
DTSTART;TZID=America/New_York:20231202T153000
DTEND;TZID=America/New_York:20231202T153000
DTSTAMP:20260423T162718
CREATED:20230703T171641Z
LAST-MODIFIED:20231106T185824Z
UID:805-1701531000-1701531000@winthropchamber.org
SUMMARY:Annual Winthrop Holiday Parade
DESCRIPTION:Annual Winthrop Holiday Parade\nDec 2\, 2023\n\n\n\n\nWinthrop will be festive all day! See the whole list! \nThe parade will be held on the first Saturday in December\, December 2\, 2023. Kick-off is 3:30 pm; line-up for participants begins at 2:30 at the top of the Main Street hill. \nTo participate in the parade\, please fill out the  Parade Participation Form \nFor more information\, contact the Chamber at info@winthropchamber.org.
URL:https://winthropchamber.org/event/annual-winthrop-holiday-parade/
CATEGORIES:Community Event
END:VEVENT
BEGIN:VEVENT
DTSTART;TZID=America/New_York:20231116T170000
DTEND;TZID=America/New_York:20231116T190000
DTSTAMP:20260423T162718
CREATED:20230720T121034Z
LAST-MODIFIED:20230720T121034Z
UID:1343-1700154000-1700161200@winthropchamber.org
SUMMARY:Business After Hours
DESCRIPTION:
URL:https://winthropchamber.org/event/business-after-hours-2/
LOCATION:Kennebec Savings Bank\, 84 Main Street\, Winthrop\, ME\, 04364\, United States
CATEGORIES:Business After Hours
END:VEVENT
BEGIN:VEVENT
DTSTART;TZID=America/New_York:20231011T071500
DTEND;TZID=America/New_York:20231011T071500
DTSTAMP:20260423T162718
CREATED:20230703T145805Z
LAST-MODIFIED:20231003T184207Z
UID:728-1697008500-1697008500@winthropchamber.org
SUMMARY:Breakfast Meeting
DESCRIPTION:Maine State Treasurer Henry Beck will be our guest\, sharing financial information of importance. He has a very successful and well-regarded monthly “By the Numbers” press release\, and radio appearances on WVOM. He will discuss these numbers\, and our region’s data.\n\nIn 2018\, Henry Beck was elected by a Joint Convention of the House and Senate as State Treasurer. Treasurer Beck’s public service began when he was elected to represent his neighborhood on the Waterville City Council in 2005. In 2008\, he was elected to the Maine House of Representatives representing parts of Waterville and Oakland during his senior year at Colby College. In the Legislature\, he was appointed House Chair of Joint Standing Committee on Insurance and Financial Services and to serve on the 2011 Commission to Apportion Maine’s Congressional Districts. Treasurer Beck attended the University of Maine School of Law and graduated on time while serving in the Legislature and practiced law prior to serving as Treasurer. He also holds an MBA from the Leonard Stern School of Business at New York University.\n\nThe Office of the Treasurer of State is established in Article V\, Part Third of the Constitution of the State of Maine. The core duties of the Treasurer’s Office are debt management\, cash management\, trust fund administration and unclaimed property administration. Other major tasks assigned to the Treasurer are directorships on many of Maine’s quasi-governmental debt issuing agencies and distributions under the Municipal Revenue Sharing Program.\n\nThis meeting is hosted by the Winthrop Lakes Region Chamber of Commerce in the Winthrop Commerce Center Conference Room \, 149 Main St.\, Winthrop\, Maine. Doors open at 7:15\, the session begins at 7:30. Light refreshments will be served.\n\nDirections: Follow the signs for Maine General / Winthrop Family Medicine / Winthrop Pediatrics\, and park in the lot behind the building. Using that entrance\, go past the front desk\, down the hall past the (not currently operating) Commerce Cafe\, and the conference room is the next door on the right. If you use the entrance on Main Street\, you will need to take the elevator or stairs down to the bottom level and follow the maze.\nRSVP to rsvp@winthropchamber.org or (207) 377-8020\nor on Facebook:  Facebook Event: Oct 11 Breakfast Meeting
URL:https://winthropchamber.org/event/breakfast-meeting-10-11-23/
LOCATION:Winthrop Commerce Center Conference Room
CATEGORIES:Breakfast Meeting
END:VEVENT
BEGIN:VEVENT
DTSTART;TZID=America/New_York:20230921T170000
DTEND;TZID=America/New_York:20230921T190000
DTSTAMP:20260423T162718
CREATED:20230911T143244Z
LAST-MODIFIED:20230911T145441Z
UID:1392-1695315600-1695322800@winthropchamber.org
SUMMARY:Annual Meeting
DESCRIPTION:Winthrop Lakes Region Chamber of Commerce \nAnnual Member Meeting \nThursday\, September 21\, 2023 \n5:00 –7:00 pm \nAndroscoggin Yacht Club\,  22 Lake Street\, Wayne\, Maine \non the shore of Androscoggin Lake \nMark your calendars for a night of fun\, food\, and drink! The Chamber Annual Members Meeting is just around the corner\, and we would be thrilled to have you join us. This year’s event will take place at the beautiful Androscoggin Yacht Club in Wayne\, Maine\, where we have held past meetings. Before the pandemic\, this gathering always drew a large crowd of members eager to share in delicious food\, refreshing drinks\, and great company and discuss organizational matters. \nThis year\, we are excited to announce that the Weather Vane will be providing the food\, while our local area brewers will supply beer and cider. A selection of red and white wines will also be available for wine lovers to enjoy. So come on out\, bring your friends and potential new members\, and let’s make it a beautiful and joyous night to remember. \nWe will share in food\, drink\, camaraderie and a little organizational business. Our nominating committee Chair\, Tavis Hasenfus will present our new Slate of Officers and new Board Members. \nPlease join us\, and invite potential new Chamber members. \nTo RSVP or for more info:  rsvp@winthropchamber.org   (207) 377-8020
URL:https://winthropchamber.org/event/annual-meeting/
LOCATION:Androscoggin Yacht Club\, 22 Lake St\, Wayne\, 04284
CATEGORIES:Community Event
END:VEVENT
BEGIN:VEVENT
DTSTART;TZID=America/New_York:20230819T090000
DTEND;TZID=America/New_York:20230819T150000
DTSTAMP:20260423T162718
CREATED:20230703T170445Z
LAST-MODIFIED:20230810T142233Z
UID:799-1692435600-1692457200@winthropchamber.org
SUMMARY:2023 Winthrop Sidewalk Art Festival
DESCRIPTION:Musician Schedule\nCommunity Events\nBusiness Activites
URL:https://winthropchamber.org/event/2023-winthrop-sidewalk-art-festival/
CATEGORIES:Community Event
END:VEVENT
BEGIN:VEVENT
DTSTART;TZID=America/New_York:20230817T170000
DTEND;TZID=America/New_York:20230817T190000
DTSTAMP:20260423T162718
CREATED:20230717T225236Z
LAST-MODIFIED:20230720T120736Z
UID:1339-1692291600-1692298800@winthropchamber.org
SUMMARY:Business After Hours
DESCRIPTION:
URL:https://winthropchamber.org/event/business-after-hours/
LOCATION:Winthrop Historical Society\, 107 Main Street\, Winthrop\, ME\, 04364
CATEGORIES:Business After Hours
END:VEVENT
BEGIN:VEVENT
DTSTART;TZID=America/New_York:20230712T071500
DTEND;TZID=America/New_York:20230712T071500
DTSTAMP:20260423T162718
CREATED:20230703T144009Z
LAST-MODIFIED:20230703T144044Z
UID:725-1689146100-1689146100@winthropchamber.org
SUMMARY:Breakfast Meeting
DESCRIPTION:Topic to be announced. If you are interested in speaking\, please email info@winthropchamber.org.
URL:https://winthropchamber.org/event/breakfast-meeting/
LOCATION:Winthrop Commerce Center Conference Room
CATEGORIES:Breakfast Meeting
END:VEVENT
END:VCALENDAR