BEGIN:VCALENDAR
VERSION:2.0
PRODID:-//Winthrop Lakes Region Chamber of Commerce - ECPv6.15.16.1//NONSGML v1.0//EN
CALSCALE:GREGORIAN
METHOD:PUBLISH
X-WR-CALNAME:Winthrop Lakes Region Chamber of Commerce
X-ORIGINAL-URL:https://winthropchamber.org
X-WR-CALDESC:Events for Winthrop Lakes Region Chamber of Commerce
REFRESH-INTERVAL;VALUE=DURATION:PT1H
X-Robots-Tag:noindex
X-PUBLISHED-TTL:PT1H
BEGIN:VTIMEZONE
TZID:America/New_York
BEGIN:DAYLIGHT
TZOFFSETFROM:-0500
TZOFFSETTO:-0400
TZNAME:EDT
DTSTART:20250309T070000
END:DAYLIGHT
BEGIN:STANDARD
TZOFFSETFROM:-0400
TZOFFSETTO:-0500
TZNAME:EST
DTSTART:20251102T060000
END:STANDARD
BEGIN:DAYLIGHT
TZOFFSETFROM:-0500
TZOFFSETTO:-0400
TZNAME:EDT
DTSTART:20260308T070000
END:DAYLIGHT
BEGIN:STANDARD
TZOFFSETFROM:-0400
TZOFFSETTO:-0500
TZNAME:EST
DTSTART:20261101T060000
END:STANDARD
BEGIN:DAYLIGHT
TZOFFSETFROM:-0500
TZOFFSETTO:-0400
TZNAME:EDT
DTSTART:20270314T070000
END:DAYLIGHT
BEGIN:STANDARD
TZOFFSETFROM:-0400
TZOFFSETTO:-0500
TZNAME:EST
DTSTART:20271107T060000
END:STANDARD
END:VTIMEZONE
BEGIN:VEVENT
DTSTART;TZID=America/New_York:20260514T170000
DTEND;TZID=America/New_York:20260514T190000
DTSTAMP:20260423T130528
CREATED:20260219T151714Z
LAST-MODIFIED:20260323T154236Z
UID:2532-1778778000-1778785200@winthropchamber.org
SUMMARY:Business After Hours - May
DESCRIPTION:May 14th\, 5:00PM-7:00PM \nPlease RSVP!  We look forward to seeing you at the Business After Hours Event sponsored by Franklin Savings Bank & Sexual Assault and Crisis Center. Doors open at 5:00. Food and drinks will be provided.   \n16 Commerce Plaza\, Winthrop\, ME 04364 \nCLICK TO SIGN UP
URL:https://winthropchamber.org/event/business-after-hours-may/
LOCATION:16 Commerce Plaza\, 16 Commerce Plaza\, Winthrop\, ME 04364\, Winthrop
CATEGORIES:Business After Hours
END:VEVENT
BEGIN:VEVENT
DTSTART;TZID=America/New_York:20260610T073000
DTEND;TZID=America/New_York:20260610T083000
DTSTAMP:20260423T130528
CREATED:20260219T152010Z
LAST-MODIFIED:20260219T152010Z
UID:2539-1781076600-1781080200@winthropchamber.org
SUMMARY:Breakfast Meeting - June
DESCRIPTION:at Bailey Public Library\nCEI Coastal Enterprises\, Inc. \nMore info to come!
URL:https://winthropchamber.org/event/breakfast-meeting-june/
LOCATION:Bailey Public LIbrary\, 39 Bowdoin St\, Winthrop\, ME\, 04364\, United States
CATEGORIES:Breakfast Meeting
END:VEVENT
BEGIN:VEVENT
DTSTART;TZID=America/New_York:20260618T170000
DTEND;TZID=America/New_York:20260618T190000
DTSTAMP:20260423T130528
CREATED:20260219T152057Z
LAST-MODIFIED:20260219T152057Z
UID:2541-1781802000-1781809200@winthropchamber.org
SUMMARY:Business After Hours - June
DESCRIPTION:Winthrop Historical Society
URL:https://winthropchamber.org/event/business-after-hours-june/
CATEGORIES:Business After Hours
END:VEVENT
BEGIN:VEVENT
DTSTART;TZID=America/New_York:20260703T210000
DTEND;TZID=America/New_York:20260703T220000
DTSTAMP:20260423T130528
CREATED:20250905T181359Z
LAST-MODIFIED:20260323T153611Z
UID:2410-1783112400-1783116000@winthropchamber.org
SUMMARY:4th of July Fireworks - On the 3rd!
DESCRIPTION:Join us on July 3rd\, 2026 at 9PM\, at Norcross Point in Winthrop\, Maine to celebrate Independence Day! \nWe’re looking for 2026 fireworks sponsors! \nCLICK TO DONATE \nAnd a huge thank you to our 2025 firework sponsors: HOMESTEAD REALTY & WINTHROP VETERINARY HOSPITAL
URL:https://winthropchamber.org/event/4th-of-july/
LOCATION:Norcross Point\, Winthrop Maine
END:VEVENT
BEGIN:VEVENT
DTSTART;TZID=America/New_York:20260815T090000
DTEND;TZID=America/New_York:20260815T150000
DTSTAMP:20260423T130528
CREATED:20260128T141450Z
LAST-MODIFIED:20260128T141720Z
UID:2514-1786784400-1786806000@winthropchamber.org
SUMMARY:38th Annual Winthrop Arts Festival
DESCRIPTION:38th Annual Winthrop Arts Festival \nThe 38th Annual Winthrop Arts Festival will take place on Saturday\, August 15th\, 2026\, from 9AM to 3PM. Local artists and artisans will showcase their beautiful and unique works. This year’s festival features a variety of mediums\, including painting\, watercolors\, drawing\, prints\, notecards\, photography\, wood\, metal\, and fabric arts. \nWe are now accepting applications from artists! Click the button below to register.\nWe are ALSO accepting sponsors at all levels. Please contact the Chamber directly to receive a Sponsor Package! \n  \nREGISTER ONLINE      REGISTER BY MAIL
URL:https://winthropchamber.org/event/38th-annual-winthrop-arts-festival/
LOCATION:Downtown Winthrop
CATEGORIES:Community Event
END:VEVENT
BEGIN:VEVENT
DTSTART;TZID=America/New_York:20260917T170000
DTEND;TZID=America/New_York:20260917T190000
DTSTAMP:20260423T130528
CREATED:20260219T152313Z
LAST-MODIFIED:20260219T152313Z
UID:2545-1789664400-1789671600@winthropchamber.org
SUMMARY:Annual Meeting - 2026
DESCRIPTION:At the YMCA Camp of Maine
URL:https://winthropchamber.org/event/annual-meeting-2026/
LOCATION:YMCA Camp\, 305 Winthrop Center Road\, Winthrop\, ME\, 04364\, United States
CATEGORIES:Annual Meeting
END:VEVENT
BEGIN:VEVENT
DTSTART;TZID=America/New_York:20261015T170000
DTEND;TZID=America/New_York:20261015T190000
DTSTAMP:20260423T130528
CREATED:20260219T152412Z
LAST-MODIFIED:20260219T152412Z
UID:2547-1792083600-1792090800@winthropchamber.org
SUMMARY:Business After Hours - October
DESCRIPTION:Kennebec Savings Bank\, Winthrop
URL:https://winthropchamber.org/event/business-after-hours-october/
LOCATION:Kennebec Savings Bank\, 84 Main Street\, Winthrop\, ME\, 04364\, United States
CATEGORIES:Business After Hours
END:VEVENT
BEGIN:VEVENT
DTSTART;TZID=America/New_York:20261104T120000
DTEND;TZID=America/New_York:20261104T130000
DTSTAMP:20260423T130528
CREATED:20260219T152532Z
LAST-MODIFIED:20260219T152532Z
UID:2549-1793793600-1793797200@winthropchamber.org
SUMMARY:Lunch & Learn - November
DESCRIPTION:At the Bailey Public Library\nGuest: Finance Authority of Maine
URL:https://winthropchamber.org/event/lunch-learn-november/
LOCATION:Bailey Public LIbrary\, 39 Bowdoin St\, Winthrop\, ME\, 04364\, United States
CATEGORIES:Lunch & learn
END:VEVENT
BEGIN:VEVENT
DTSTART;TZID=America/New_York:20261205T150000
DTEND;TZID=America/New_York:20261205T160000
DTSTAMP:20260423T130528
CREATED:20260219T152712Z
LAST-MODIFIED:20260219T152712Z
UID:2551-1796482800-1796486400@winthropchamber.org
SUMMARY:Holiday Parade - 2026
DESCRIPTION:HOLIDAY PARADE\nSaturday\, December 5\, 2026\nLine up at 2:00 at the top of Main Street\, Parade starts at 3:00 \nPlease note\, candy may be passed\, but may NOT be thrown from moving vehicles/floats.
URL:https://winthropchamber.org/event/holiday-parade-2026/
LOCATION:Downtown Winthrop
END:VEVENT
END:VCALENDAR