BEGIN:VCALENDAR
VERSION:2.0
PRODID:-//Winthrop Lakes Region Chamber of Commerce - ECPv6.15.16.1//NONSGML v1.0//EN
CALSCALE:GREGORIAN
METHOD:PUBLISH
X-ORIGINAL-URL:https://winthropchamber.org
X-WR-CALDESC:Events for Winthrop Lakes Region Chamber of Commerce
REFRESH-INTERVAL;VALUE=DURATION:PT1H
X-Robots-Tag:noindex
X-PUBLISHED-TTL:PT1H
BEGIN:VTIMEZONE
TZID:America/New_York
BEGIN:DAYLIGHT
TZOFFSETFROM:-0500
TZOFFSETTO:-0400
TZNAME:EDT
DTSTART:20220313T070000
END:DAYLIGHT
BEGIN:STANDARD
TZOFFSETFROM:-0400
TZOFFSETTO:-0500
TZNAME:EST
DTSTART:20221106T060000
END:STANDARD
BEGIN:DAYLIGHT
TZOFFSETFROM:-0500
TZOFFSETTO:-0400
TZNAME:EDT
DTSTART:20230312T070000
END:DAYLIGHT
BEGIN:STANDARD
TZOFFSETFROM:-0400
TZOFFSETTO:-0500
TZNAME:EST
DTSTART:20231105T060000
END:STANDARD
BEGIN:DAYLIGHT
TZOFFSETFROM:-0500
TZOFFSETTO:-0400
TZNAME:EDT
DTSTART:20240310T070000
END:DAYLIGHT
BEGIN:STANDARD
TZOFFSETFROM:-0400
TZOFFSETTO:-0500
TZNAME:EST
DTSTART:20241103T060000
END:STANDARD
BEGIN:DAYLIGHT
TZOFFSETFROM:-0500
TZOFFSETTO:-0400
TZNAME:EDT
DTSTART:20250309T070000
END:DAYLIGHT
BEGIN:STANDARD
TZOFFSETFROM:-0400
TZOFFSETTO:-0500
TZNAME:EST
DTSTART:20251102T060000
END:STANDARD
BEGIN:DAYLIGHT
TZOFFSETFROM:-0500
TZOFFSETTO:-0400
TZNAME:EDT
DTSTART:20260308T070000
END:DAYLIGHT
BEGIN:STANDARD
TZOFFSETFROM:-0400
TZOFFSETTO:-0500
TZNAME:EST
DTSTART:20261101T060000
END:STANDARD
END:VTIMEZONE
BEGIN:VEVENT
DTSTART;TZID=America/New_York:20251206T140000
DTEND;TZID=America/New_York:20251206T170000
DTSTAMP:20260423T151718
CREATED:20250317T170215Z
LAST-MODIFIED:20251124T193555Z
UID:2304-1765029600-1765040400@winthropchamber.org
SUMMARY:Holiday Parade 2025
DESCRIPTION:SHOP HOP\nMain Street Winthrop\nShop Small Saturday\, November 29th\nKick off the holiday season with a sprinkle of small-town magic! Beginning on Shop Small Saturday\, November 29th\, visit participating businesses along Main Street Winthrop to join in our festive Shop Hop. \n\nHOLIDAY PARADE\nSaturday\, December 6\, 2025\nLine up at 2:00 at the top of Main Street\, Parade starts at 3:00 \nPlease note\, candy may be passed\, but may NOT be thrown from moving vehicles/floats.\n\n  \nREGISTER YOUR FLOAT\n\n\n\nTREE LIGHTING\nSaturday\, December 6\, 4:30
URL:https://winthropchamber.org/event/holiday-parade-2025/
CATEGORIES:Community Event
END:VEVENT
BEGIN:VEVENT
DTSTART;TZID=America/New_York:20250705T210000
DTEND;TZID=America/New_York:20250705T220000
DTSTAMP:20260423T151718
CREATED:20250625T133950Z
LAST-MODIFIED:20250625T134022Z
UID:2290-1751749200-1751752800@winthropchamber.org
SUMMARY:5th of July Fireworks
DESCRIPTION:Join us on July 5th at 9PM\, at Norcross Point in Winthrop\, Maine to celebrate Independence Day! \nAnd a huge thank you to our firework sponsors: HOMESTEAD REALTY & WINTHROP VETERINARY HOSPITAL
URL:https://winthropchamber.org/event/4th-of-july-fireworks/
LOCATION:Norcross Point\, Winthrop Maine
CATEGORIES:Community Event
END:VEVENT
BEGIN:VEVENT
DTSTART;TZID=America/New_York:20241207T150000
DTEND;TZID=America/New_York:20241207T160000
DTSTAMP:20260423T151718
CREATED:20240916T180220Z
LAST-MODIFIED:20241030T175331Z
UID:1872-1733583600-1733587200@winthropchamber.org
SUMMARY:Holiday Parade 2024
DESCRIPTION:Thank you for letting us know of your plan to participate!\n\nHoliday Parade Sign-up \nParade date is Saturday\, December 7\, 2024\nLine up at 2:00 at the top of Main Street\, Parade starts at 3:00\nPlease note\, candy may be passed\, but may NOT be thrown from moving vehicles/floats.
URL:https://winthropchamber.org/event/holiday-parade-2024/
CATEGORIES:Community Event
END:VEVENT
BEGIN:VEVENT
DTSTART;TZID=America/New_York:20240817T090000
DTEND;TZID=America/New_York:20240817T150000
DTSTAMP:20260423T151718
CREATED:20240229T225127Z
LAST-MODIFIED:20240903T184347Z
UID:1636-1723885200-1723906800@winthropchamber.org
SUMMARY:36th Annual Winthrop Arts Festival
DESCRIPTION:36th annual Winthrop Arts Festival \nThe 36th annual Winthrop Arts Festival will take place on August 17\, 2024\, from 9:00 AM to 3:00 PM. Local artists and artisans will showcase their beautiful and unique works. This year’s festival features a variety of mediums\, including painting\, watercolors\, drawing\, prints\, notecards\, photography\, wood\, metal\, and fabric arts. \nReturning artists include: \n\nTonya Patten (“The Moon’s Cache”)\nIan Hanks (“Maine Treasures Art Prints”)\nPaul and Susan Boucher (“Windows to Nature”)\nAmy Durocher Photography\n\nWe also welcome new artists\, including: \n\nJessica Wade\nTammy Giles (“Waterbear Arts”)\nMaureen Libby (“Stitch-Craft”)\n\nAdditionally\, there will be a student table sponsored by Homestead Realty. \nMusician Schedule on the Union Street Stage: \n\n10:00 AM: Bailey Ukulele Band\n11:00 AM: Ed Desjardine\n12:00 PM: Stone Quarry\n1:00 PM: Stone Quarry\n2:00 PM: Chris Servizzi\n\nCommunity Activities: \n\nWinthrop Rotary: Hot dogs for sale and Window Dressers\nPALS No-Kill Animal Shelter\nBailey Public Library: Open from 10:00 AM to 3:00 PM with a booth at the art festival\nWinthrop Congregational Church: Church Fair featuring a Kids Table\, Baked Goods\, Jewelry\, Dishcloths\, and Second Time Around\nWinthrop Maine Historical Society: Open from 10:00 AM to 4:00 PM\, Gift Shop selling 2025 Calendars\nWinthrop Community Mural Project: Learn about Winthrop’s next mural!\nWinthrop Fire Truck: Located at WMHS parking lot\n\nThank you to our sponsors\, who make it all possible: \n\nKennebec Savings Bank\nHomestead Realty\nLevey Wegley Putman & Eccher\nSprague & Curtis Realty\nHoyt Chiropractic\nWinthrop Veterinary Hospital\nWinthrop American Legion Post #40\nTwo Trees Forestry
URL:https://winthropchamber.org/event/36th-annual-sidewalk-art-festival/
LOCATION:Winthrop\, Maine\, union st\, winthrop\, ME\, 04364\, United States
CATEGORIES:Community Event
END:VEVENT
BEGIN:VEVENT
DTSTART;TZID=America/New_York:20231202T153000
DTEND;TZID=America/New_York:20231202T153000
DTSTAMP:20260423T151718
CREATED:20230703T171641Z
LAST-MODIFIED:20231106T185824Z
UID:805-1701531000-1701531000@winthropchamber.org
SUMMARY:Annual Winthrop Holiday Parade
DESCRIPTION:Annual Winthrop Holiday Parade\nDec 2\, 2023\n\n\n\n\nWinthrop will be festive all day! See the whole list! \nThe parade will be held on the first Saturday in December\, December 2\, 2023. Kick-off is 3:30 pm; line-up for participants begins at 2:30 at the top of the Main Street hill. \nTo participate in the parade\, please fill out the  Parade Participation Form \nFor more information\, contact the Chamber at info@winthropchamber.org.
URL:https://winthropchamber.org/event/annual-winthrop-holiday-parade/
CATEGORIES:Community Event
END:VEVENT
BEGIN:VEVENT
DTSTART;TZID=America/New_York:20230921T170000
DTEND;TZID=America/New_York:20230921T190000
DTSTAMP:20260423T151718
CREATED:20230911T143244Z
LAST-MODIFIED:20230911T145441Z
UID:1392-1695315600-1695322800@winthropchamber.org
SUMMARY:Annual Meeting
DESCRIPTION:Winthrop Lakes Region Chamber of Commerce \nAnnual Member Meeting \nThursday\, September 21\, 2023 \n5:00 –7:00 pm \nAndroscoggin Yacht Club\,  22 Lake Street\, Wayne\, Maine \non the shore of Androscoggin Lake \nMark your calendars for a night of fun\, food\, and drink! The Chamber Annual Members Meeting is just around the corner\, and we would be thrilled to have you join us. This year’s event will take place at the beautiful Androscoggin Yacht Club in Wayne\, Maine\, where we have held past meetings. Before the pandemic\, this gathering always drew a large crowd of members eager to share in delicious food\, refreshing drinks\, and great company and discuss organizational matters. \nThis year\, we are excited to announce that the Weather Vane will be providing the food\, while our local area brewers will supply beer and cider. A selection of red and white wines will also be available for wine lovers to enjoy. So come on out\, bring your friends and potential new members\, and let’s make it a beautiful and joyous night to remember. \nWe will share in food\, drink\, camaraderie and a little organizational business. Our nominating committee Chair\, Tavis Hasenfus will present our new Slate of Officers and new Board Members. \nPlease join us\, and invite potential new Chamber members. \nTo RSVP or for more info:  rsvp@winthropchamber.org   (207) 377-8020
URL:https://winthropchamber.org/event/annual-meeting/
LOCATION:Androscoggin Yacht Club\, 22 Lake St\, Wayne\, 04284
CATEGORIES:Community Event
END:VEVENT
BEGIN:VEVENT
DTSTART;TZID=America/New_York:20230819T090000
DTEND;TZID=America/New_York:20230819T150000
DTSTAMP:20260423T151718
CREATED:20230703T170445Z
LAST-MODIFIED:20230810T142233Z
UID:799-1692435600-1692457200@winthropchamber.org
SUMMARY:2023 Winthrop Sidewalk Art Festival
DESCRIPTION:Musician Schedule\nCommunity Events\nBusiness Activites
URL:https://winthropchamber.org/event/2023-winthrop-sidewalk-art-festival/
CATEGORIES:Community Event
END:VEVENT
END:VCALENDAR