BEGIN:VCALENDAR
VERSION:2.0
PRODID:-//Winthrop Lakes Region Chamber of Commerce - ECPv6.15.16.1//NONSGML v1.0//EN
CALSCALE:GREGORIAN
METHOD:PUBLISH
X-WR-CALNAME:Winthrop Lakes Region Chamber of Commerce
X-ORIGINAL-URL:https://winthropchamber.org
X-WR-CALDESC:Events for Winthrop Lakes Region Chamber of Commerce
REFRESH-INTERVAL;VALUE=DURATION:PT1H
X-Robots-Tag:noindex
X-PUBLISHED-TTL:PT1H
BEGIN:VTIMEZONE
TZID:America/New_York
BEGIN:DAYLIGHT
TZOFFSETFROM:-0500
TZOFFSETTO:-0400
TZNAME:EDT
DTSTART:20240310T070000
END:DAYLIGHT
BEGIN:STANDARD
TZOFFSETFROM:-0400
TZOFFSETTO:-0500
TZNAME:EST
DTSTART:20241103T060000
END:STANDARD
BEGIN:DAYLIGHT
TZOFFSETFROM:-0500
TZOFFSETTO:-0400
TZNAME:EDT
DTSTART:20250309T070000
END:DAYLIGHT
BEGIN:STANDARD
TZOFFSETFROM:-0400
TZOFFSETTO:-0500
TZNAME:EST
DTSTART:20251102T060000
END:STANDARD
BEGIN:DAYLIGHT
TZOFFSETFROM:-0500
TZOFFSETTO:-0400
TZNAME:EDT
DTSTART:20260308T070000
END:DAYLIGHT
BEGIN:STANDARD
TZOFFSETFROM:-0400
TZOFFSETTO:-0500
TZNAME:EST
DTSTART:20261101T060000
END:STANDARD
END:VTIMEZONE
BEGIN:VEVENT
DTSTART;TZID=America/New_York:20250918T050000
DTEND;TZID=America/New_York:20250918T190000
DTSTAMP:20260423T151834
CREATED:20250825T172323Z
LAST-MODIFIED:20250825T180315Z
UID:2296-1758171600-1758222000@winthropchamber.org
SUMMARY:Annual Meeting: YMCA Camp
DESCRIPTION:Sep 18 – Annual Meeting at YMCA Camp\n305 Winthrop Center Road\n5:00PM to 7:00PM \n \nJoin us for an evening of fun\, food provided by Teds Trackside\, and drinks at our Annual Member Meeting. Held at the YMCA Camp in Winthrop\, this event is a perfect blend of camaraderie and organizational updates. \nWhat to Expect \n\nPresentation highlighting Chamber Activities\nPresentation of our goals for the upcoming year\nNew Member Welcome\, Membership Refresher\nBrief business meeting\n\nAre you interested in becoming a board member? We’re looking for nominations for the President and Secretary role on the Executive Board.  Nominations should be sent to the chamber email address by 9/10.  Members will vote at this Annual Meeting. \nWe’ll also share more ways for you to get more involved\, including committee opportunities and special assignments. \nDon’t miss out on this chance to connect\, enjoy great company\, and contribute to the future of our organization! Please join us\, and invite potential new Chamber members. \nPlease join us\, and invite potential new Chamber members. \nFor more information\,email info@winthropchamber.org \nPlease RSVP: \nRSVP
URL:https://winthropchamber.org/event/annual-meeting-ymca-camp/
LOCATION:YMCA Camp\, 305 Winthrop Center Road\, Winthrop\, ME\, 04364\, United States
CATEGORIES:Annual Meeting
END:VEVENT
END:VCALENDAR